Workbook

Sheet SUMMARY
A1: PROJECT INFO:
A2: DATE:
A3: PROJECT ID:
A4: SCOPE:
A6: AREA SUMMARY:
A7: BUILDING GSF
A8: No. of Floors:
A10: SUMMARY | B10: AMOUNT
A11: TOTAL PROJECT COST | B11: =E50 -> 0
A12: TOTAL PROPOSED BID | B12: =E57 -> 0
A14: DIVISION NO. | B14: DESCRIPTION | C14: TOTAL COST | D14: COST/ SF
B15: General Construction (GC) Takeoff Divisions
A16: Division 1 | B16: General Requirements | C16: ='SITE ESTIMATE'!J20 -> 0 | D16: =C16/$B$7 -> #DIV/0!
A17: Division 2 | B17: Existing Conditions | C17: ='SITE ESTIMATE'!J35 -> 0 | D17: =C17/$B$7 -> #DIV/0!
A18: Division 3 | B18: Concrete | C18: ='SITE ESTIMATE'!J110 -> 0 | D18: =C18/$B$7 -> #DIV/0!
A19: Division 6 | B19: Wood, Plastic & Composite | C19: ='SITE ESTIMATE'!J119 -> 0 | D19: =C19/$B$7 -> #DIV/0!
A20: Division 8 | B20: Opening | C20: ='SITE ESTIMATE'!J129 -> 0 | D20: =C20/$B$7 -> #DIV/0!
A21: Division 9 | B21: Finishes | C21: ='SITE ESTIMATE'!J198 -> 0 | D21: =C21/$B$7 -> #DIV/0!
A22: Division 10 | B22: Specialities | C22: ='SITE ESTIMATE'!J209 -> 0 | D22: =C22/$B$7 -> #DIV/0!
A23: Division 12 | B23: Furnishing | C23: ='SITE ESTIMATE'!J230 -> 0 | D23: =C23/$B$7 -> #DIV/0!
B24: MEP Divisions
A25: Division 22 | B25: Plumbing | C25: ='SITE ESTIMATE'!J244 -> 0 | D25: =C25/$B$7 -> #DIV/0!
A26: Division 23 | B26: HVAC | C26: ='SITE ESTIMATE'!J250 -> 0 | D26: =C26/$B$7 -> #DIV/0!
A27: Division 26 | B27: Electrical | C27: ='SITE ESTIMATE'!J256 -> 0 | D27: =C27/$B$7 -> #DIV/0!
A28: TOTAL TRADE COST | C28: =SUM(C15:C27) -> 0 | D28: =SUM(C28/$B$7) -> #DIV/0!
A30: TOTAL TRADE COST | C30: =C28 -> 0 | D30: =D28 -> #DIV/0!
A31: SUBTOTAL | C31: =C30 -> 0
A32: OVERHEADS & PROFITS | B32: 0.25 | C32: =B32*C30 -> 0
A33: INSURANCES | B33: 0.03 | C33: =B33*C30 -> 0
A34: CONTIGENCY | B34: 0.07 | C34: =B34*C30 -> 0
A35: TOTAL BASE BID | D35: =SUM(C31:C34) -> 0
C36: Next Tab For Detailed Estimate

Sheet SITE ESTIMATE
A1: PROJECT | C1: -
A2: ADDRESS | C2: -
A3: Date of submission
A4: Date of plans
A5: SITE ESTIMATE | C5: =I$263 -> 0
A6: SR # | B6: Sheet No. | C6: Detail No. | D6: CSI No. | E6: DESCRIPTION | F6: QTY. | G6: UNIT | H6: UNIT COST | I6: TOTAL COST | J6: SUB TOTALS
A8: DIVISION 01 - GENERAL REQUIREMENTS
A9: =IF(F9<>"",1+MAX($A$6:A8),"") -> 1 | E9: Project Manager | F9: 1 | G9: LS | H9: 0 | I9: =H9*F9 -> 0
A10: =IF(F10<>"",1+MAX($A$6:A9),"") -> 2 | E10: Field Superintendent | F10: 1 | G10: LS | H10: 0 | I10: =H10*F10 -> 0
A11: =IF(F11<>"",1+MAX($A$6:A10),"") -> 3 | E11: Bonds | F11: 1 | G11: LS | H11: 0 | I11: =H11*F11 -> 0
A12: =IF(F12<>"",1+MAX($A$6:A11),"") -> 4 | E12: Permitting | F12: 1 | G12: LS | H12: 0 | I12: =H12*F12 -> 0
A13: =IF(F13<>"",1+MAX($A$6:A12),"") -> 5 | E13: Mobilization Cost | F13: 1 | G13: LS | H13: 0 | I13: =H13*F13 -> 0
A14: =IF(F14<>"",1+MAX($A$6:A13),"") -> 6 | E14: Temp Fencing, Toilets, Utilities | F14: 1 | G14: LS | H14: 0 | I14: =H14*F14 -> 0
A15: =IF(F15<>"",1+MAX($A$6:A14),"") -> 7 | E15: Jobsite Signage, Trailer, Security | F15: 1 | G15: LS | H15: 0 | I15: =H15*F15 -> 0
A16: =IF(F16<>"",1+MAX($A$6:A15),"") -> 8 | E16: Dumpsters, Tools | F16: 1 | G16: LS | H16: 0 | I16: =H16*F16 -> 0
A17: =IF(F17<>"",1+MAX($A$6:A16),"") -> 9 | E17: Clean-up | F17: 1 | G17: LS | H17: 0 | I17: =H17*F17 -> 0
A18: =IF(F18<>"",1+MAX($A$6:A17),"") -> 10 | E18: Procore, Web Cameras | F18: 1 | G18: LS | H18: 0 | I18: =H18*F18 -> 0
A19: =IF(F19<>"",1+MAX($A$6:A18),"")
A20: Subtotal (General Requirements) | J20: =(SUM(I9:I19)) -> 0
A22: DIVISION 02 - EXISTING CONDITION
A23: =IF(F23<>"",1+MAX($A$6:A22),"") | E23: DEMOLITION
A24: =IF(F24<>"",1+MAX($A$6:A23),"") -> 11 | B24: A-01 | E24: Remove Existing Concrete Wall | F24: =((5.5*0.5*8+35.4*1*8))/27 -> 11.303704 | G24: CY | H24: 0 | I24: =H24*F24 -> 0
A25: =IF(F25<>"",1+MAX($A$6:A24),"") -> 12 | B25: A-01 | E25: Remove Existing Interior Walls | F25: =34.7*8.167+3.4*6.67 -> 306.0729 | G25: SF | H25: 0 | I25: =H25*F25 -> 0
A26: =IF(F26<>"",1+MAX($A$6:A25),"") -> 13 | B26: A-01 | E26: Remove Existing Doors (Double Panel) | F26: =3+1 -> 4 | G26: EA | H26: 0 | I26: =H26*F26 -> 0
A27: =IF(F27<>"",1+MAX($A$6:A26),"") -> 14 | B27: A-01 | E27: Remove Existing Doors (Single Panel) | F27: 3 | G27: EA | H27: 0 | I27: =H27*F27 -> 0
A28: =IF(F28<>"",1+MAX($A$6:A27),"") -> 15 | B28: A-01 | E28: Remove Existing Flooring | F28: =774.8 -> 774.8 | G28: SF | H28: 0 | I28: =H28*F28 -> 0
A29: =IF(F29<>"",1+MAX($A$6:A28),"") -> 16 | B29: A-01 | E29: Remove Existing Ceilings | F29: =772.6 -> 772.6 | G29: SF | H29: 0 | I29: =H29*F29 -> 0
A30: =IF(F30<>"",1+MAX($A$6:A29),"") -> 17 | B30: A-01 | E30: Remove Existing Misc. Item | F30: =2+1 -> 3 | G30: EA. | H30: 0 | I30: =H30*F30 -> 0
A31: =IF(F31<>"",1+MAX($A$6:A30),"") -> 18 | B31: A-01 | E31: Remove Existing Post 6x6 | F31: 1 | G31: EA. | H31: 0 | I31: =H31*F31 -> 0
A32: =IF(F32<>"",1+MAX($A$6:A31),"") -> 19 | B32: S1 | E32: Demolish Rat Slab Location: Crawl Space | F32: 475 | G32: SF | H32: 0 | I32: =H32*F32 -> 0
A33: =IF(F33<>"",1+MAX($A$6:A32),"") -> 20 | B33: S1 | E33: Demolish Slab on Grade Location: Basement | F33: 259 | G33: SF | H33: 0 | I33: =H33*F33 -> 0
A34: =IF(F34<>"",1+MAX($A$6:A33),"")
A35: Subtotal (Existing Condition) | J35: =(SUM(I23:I34)) -> 0
A37: DIVISION 03 - CONCRETE
A38: =IF(F38<>"",1+MAX($A$6:A37),"") | E38: UNDERPINNING
A39: =IF(F39<>"",1+MAX($A$6:A38),"") | E39: Underpinning Footing Section Length: 2'-4" Section Width: 1'-6" Section Depth: 1'-0" | H39: 0 | I39: =H39*F39 -> 0
B40: S1 | C40: S2 | E40: Concrete (4000 Psi) | G40: CY | H40: 0 | I40: =H40*F40 -> 0
B41: S1 | C41: S2 | E41: (2) #4 Longitdunal Bars | G41: LB | H41: 0 | I41: =H41*F41 -> 0
B42: S1 | C42: S2 | E42: #4 Longitudnal Bars @ 24" O.C. | G42: LB | H42: 0 | I42: =H42*F42 -> 0
B43: S1 | C43: S2 | E43: Formwork | G43: SFCA | H43: 0 | I43: =H43*F43 -> 0
B44: S1 | C44: S2 | E44: Excavation (Hand Dig) | G44: CY | H44: 0 | I44: =H44*F44 -> 0
H45: 0 | I45: =H45*F45 -> 0
E46: Underpinning Wall Section Length: 2'-4" Section Width: 1'-0" Section Depth: 7'-4" | H46: 0 | I46: =H46*F46 -> 0
B47: S1 | C47: S2 | E47: Concrete (4000 Psi) | G47: CY | H47: 0 | I47: =H47*F47 -> 0
B48: S1 | C48: S2 | E48: (2) #4 Horizontal Bars @ Top, Mid and Bottom | G48: LB | H48: 0 | I48: =H48*F48 -> 0
B49: S1 | C49: S2 | E49: #4 Vertical Bars @ 16" O.C. Each Face | G49: LB | H49: 0 | I49: =H49*F49 -> 0
B50: S1 | C50: S2 | E50: Formwork | G50: SFCA | H50: 0 | I50: =H50*F50 -> 0
B51: S1 | C51: S2 | E51: Excavation (Hand Dig) | G51: CY | H51: 0 | I51: =H51*F51 -> 0
H52: 0 | I52: =H52*F52 -> 0
E53: Remaning Typical Sections | G53: LOC | H53: 0 | I53: =H53*F53 -> 0
H54: 0 | I54: =H54*F54 -> 0
E55: Underpinning Footing Section Length: 3'-0" Section Width: 1'-6" Section Depth: 1'-0" | H55: 0 | I55: =H55*F55 -> 0
B56: S1 | C56: S2 | E56: Concrete (4000 Psi) | G56: CY | H56: 0 | I56: =H56*F56 -> 0
B57: S1 | C57: S2 | E57: (2) #4 Longitdunal Bars | G57: LB | H57: 0 | I57: =H57*F57 -> 0
B58: S1 | C58: S2 | E58: #4 Longitudnal Bars @ 24" O.C. | G58: LB | H58: 0 | I58: =H58*F58 -> 0
B59: S1 | C59: S2 | E59: Formwork | G59: SFCA | H59: 0 | I59: =H59*F59 -> 0
B60: S1 | C60: S2 | E60: Excavation (Hand Dig) | G60: CY | H60: 0 | I60: =H60*F60 -> 0
H61: 0 | I61: =H61*F61 -> 0
E62: Underpinning Wall Section Length: 3'-0" Section Width: 1'-0" Section Depth: 7'-4" | H62: 0 | I62: =H62*F62 -> 0
B63: S1 | C63: S2 | E63: Concrete (4000 Psi) | G63: CY | H63: 0 | I63: =H63*F63 -> 0
B64: S1 | C64: S2 | E64: (2) #4 Horizontal Bars @ Top, Mid and Bottom | G64: LB | H64: 0 | I64: =H64*F64 -> 0
B65: S1 | C65: S2 | E65: #4 Vertical Bars @ 16" O.C. Each Face | G65: LB | H65: 0 | I65: =H65*F65 -> 0
B66: S1 | C66: S2 | E66: Formwork | G66: SFCA | H66: 0 | I66: =H66*F66 -> 0
B67: S1 | C67: S2 | E67: Excavation (Hand Dig) | G67: CY | H67: 0 | I67: =H67*F67 -> 0
H68: 0 | I68: =H68*F68 -> 0
E69: Remaning Typical Sections | G69: LOC | H69: 0 | I69: =H69*F69 -> 0
H70: 0 | I70: =H70*F70 -> 0
E71: Underpinning Footing Section Length: 3'-3" Section Width: 1'-6" Section Depth: 1'-0" | H71: 0 | I71: =H71*F71 -> 0
B72: S1 | C72: S2 | E72: Concrete (4000 Psi) | G72: CY | H72: 0 | I72: =H72*F72 -> 0
B73: S1 | C73: S2 | E73: (2) #4 Longitdunal Bars | G73: LB | H73: 0 | I73: =H73*F73 -> 0
B74: S1 | C74: S2 | E74: #4 Longitudnal Bars @ 24" O.C. | G74: LB | H74: 0 | I74: =H74*F74 -> 0
B75: S1 | C75: S2 | E75: Formwork | G75: SFCA | H75: 0 | I75: =H75*F75 -> 0
B76: S1 | C76: S2 | E76: Excavation (Hand Dig) | G76: CY | H76: 0 | I76: =H76*F76 -> 0
H77: 0 | I77: =H77*F77 -> 0
E78: Underpinning Wall Section Length: 3'-3" Section Width: 1'-0" Section Depth: 7'-4" | H78: 0 | I78: =H78*F78 -> 0
B79: S1 | C79: S2 | E79: Concrete (4000 Psi) | G79: CY | H79: 0 | I79: =H79*F79 -> 0
B80: S1 | C80: S2 | E80: (2) #4 Horizontal Bars @ Top, Mid and Bottom | G80: LB | H80: 0 | I80: =H80*F80 -> 0
B81: S1 | C81: S2 | E81: #4 Vertical Bars @ 16" O.C. Each Face | G81: LB | H81: 0 | I81: =H81*F81 -> 0
B82: S1 | C82: S2 | E82: Formwork | G82: SFCA | H82: 0 | I82: =H82*F82 -> 0
B83: S1 | C83: S2 | E83: Excavation (Hand Dig) | G83: CY | H83: 0 | I83: =H83*F83 -> 0
H84: 0 | I84: =H84*F84 -> 0
E85: Remaning Typical Sections | G85: LOC | H85: 0 | I85: =H85*F85 -> 0
H86: 0 | I86: =H86*F86 -> 0
E87: Underpinning Footing Section Length: 4'-0" Section Width: 1'-6" Section Depth: 1'-0" | H87: 0 | I87: =H87*F87 -> 0
B88: S1 | C88: S2 | E88: Concrete (4000 Psi) | G88: CY | H88: 0 | I88: =H88*F88 -> 0
B89: S1 | C89: S2 | E89: (2) #4 Longitdunal Bars | G89: LB | H89: 0 | I89: =H89*F89 -> 0
B90: S1 | C90: S2 | E90: #4 Longitudnal Bars @ 24" O.C. | G90: LB | H90: 0 | I90: =H90*F90 -> 0
B91: S1 | C91: S2 | E91: Formwork | G91: SFCA | H91: 0 | I91: =H91*F91 -> 0
B92: S1 | C92: S2 | E92: Excavation (Hand Dig) | G92: CY | H92: 0 | I92: =H92*F92 -> 0
H93: 0 | I93: =H93*F93 -> 0
E94: Underpinning Wall Section Length: 4'-0" Section Width: 1'-0" Section Depth: 7'-4" | H94: 0 | I94: =H94*F94 -> 0
B95: S1 | C95: S2 | E95: Concrete (4000 Psi) | G95: CY | H95: 0 | I95: =H95*F95 -> 0
B96: S1 | C96: S2 | E96: (2) #4 Horizontal Bars @ Top, Mid and Bottom | G96: LB | H96: 0 | I96: =H96*F96 -> 0
B97: S1 | C97: S2 | E97: #4 Vertical Bars @ 16" O.C. Each Face | G97: LB | H97: 0 | I97: =H97*F97 -> 0
B98: S1 | C98: S2 | E98: Formwork | G98: SFCA | H98: 0 | I98: =H98*F98 -> 0
B99: S1 | C99: S2 | E99: Excavation (Hand Dig) | G99: CY | H99: 0 | I99: =H99*F99 -> 0
H100: 0 | I100: =H100*F100 -> 0
E101: Remaning Typical Sections | G101: LOC | H101: 0 | I101: =H101*F101 -> 0
H102: 0 | I102: =H102*F102 -> 0
E103: BASEMENT SLAB ON GRADE | H103: 0 | I103: =H103*F103 -> 0
...
