Workbook

Sheet SUMMARY
A1: PROJECT ID:
A2: DATE:
A3: AREA SUMMARY:
A4: No Of Floors | B4: 3
A5: BUILDING GM2 | B5: =SUM(B6:B8) -> 943.61
A6: Basemet (M2) | B6: 376.14
A7: Ground Floor (M2) | B7: 291.66
A8: First Floor (M2) | B8: 275.81
A10: DIVISION NO. | B10: DESCRIPTION | C10: TOTAL DIV. COST | D10: COST/ M2
A11: Division 1 | B11: Preliminaries | C11: =TAKEOFF!I36 -> 122236.32 | D11: =SUM(C11/$B$5) -> 129.54115
A12: Division 2 | B12: Excavation & Site Levelling | C12: =TAKEOFF!I47 -> 8872.0809 | D12: =SUM(C12/$B$5) -> 9.4022752
A13: Division 3 | B13: Formwork | C13: =TAKEOFF!I80 -> 36539.511 | D13: =SUM(C13/$B$5) -> 38.723107
A14: Division 4 | B14: Concrete Supply & Install | C14: =TAKEOFF!I119 -> 137613.97 | D14: =SUM(C14/$B$5) -> 145.83776
A15: Division 5 | B15: Termite Treatment | C15: =TAKEOFF!I123 -> 8244.163 | D15: =SUM(C15/$B$5) -> 8.736833
A16: Division 6 | B16: Carpentry Framing | C16: =TAKEOFF!I324 -> 171331.76 | D16: =SUM(C16/$B$5) -> 181.57052
A17: Division 7 | B17: Sarking & Insulation | C17: =TAKEOFF!I342 -> 36826.917 | D17: =SUM(C17/$B$5) -> 39.027689
A18: Division 8 | B18: Timber/Steel Stair Frame | C18: =TAKEOFF!I346 -> 1476.4954 | D18: =SUM(C18/$B$5) -> 1.5647305
A19: Division 9 | B19: Masonry Supply & Install | C19: =TAKEOFF!I368 -> 12658.376 | D19: =SUM(C19/$B$5) -> 13.414839
A20: Division 10 | B20: Scaffold | C20: =TAKEOFF!I373 -> 8044.2978 | D20: =SUM(C20/$B$5) -> 8.5250239
A21: Division 11 | B21: Aluminium Windows & Doors | C21: =TAKEOFF!I398 -> 238609.29 | D21: =SUM(C21/$B$5) -> 252.86855
A22: Division 12 | B22: Roofing (Metal/Tiles) | C22: =TAKEOFF!I421 -> 31072.957 | D22: =SUM(C22/$B$5) -> 32.929873
A23: Division 13 | B23: Solar Panel | C23: =TAKEOFF!I426 -> 3721.4643 | D23: =SUM(C23/$B$5) -> 3.9438585
A24: Division 14 | B24: Skylights | C24: =TAKEOFF!I430 -> 556.49074 | D24: =SUM(C24/$B$5) -> 0.58974654
A25: Division 15 | B25: Cladding | C25: =TAKEOFF!I437 -> 17484.56 | D25: =SUM(C25/$B$5) -> 18.529435
A26: Division 16 | B26: Render | C26: =TAKEOFF!I443 -> 8288.9592 | D26: =SUM(C26/$B$5) -> 8.7843062
A27: Division 17 | B27: Plasterboard | C27: =TAKEOFF!I479 -> 78615.123 | D27: =SUM(C27/$B$5) -> 83.313151
A28: Division 18 | B28: External Balustrades | C28: =TAKEOFF!I486 -> 17216.805 | D28: =SUM(C28/$B$5) -> 18.245679
A29: Division 19 | B29: Sundry Metalwork (e.g. Garage Door) | C29: =TAKEOFF!I491 -> 5577.4152 | D29: =SUM(C29/$B$5) -> 5.9107207
A30: Division 20 | B30: Door & Hardware Supply & Install | C30: =TAKEOFF!I516 -> 157973.37 | D30: =SUM(C30/$B$5) -> 167.41384
A31: Division 21 | B31: Carpentry Fitout | C31: =TAKEOFF!I527 -> 20535.211 | D31: =SUM(C31/$B$5) -> 21.762392
A32: Division 22 | B32: Waterproofing | C32: =TAKEOFF!I541 -> 1909.3541 | D32: =SUM(C32/$B$5) -> 2.0234568
A33: Division 23 | B33: Tiling (Supply & Install) | C33: =TAKEOFF!I560 -> 30655.69 | D33: =SUM(C33/$B$5) -> 32.48767
A34: Division 24 | B34: Flooring | C34: =TAKEOFF!I577 -> 46635.921 | D34: =SUM(C34/$B$5) -> 49.422877
A35: Division 25 | B35: Painting | C35: =TAKEOFF!I629 -> 85606.316 | D35: =SUM(C35/$B$5) -> 90.722137
A36: Division 26 | B36: Joinery | C36: =TAKEOFF!I659 -> 82253.491 | D36: =SUM(C36/$B$5) -> 87.168948
A37: Division 27 | B37: Shower Screens/ Partition | C37: =TAKEOFF!I666 -> 13036.21 | D37: =SUM(C37/$B$5) -> 13.815252
A38: Division 28 | B38: PC Items | C38: =TAKEOFF!I685 -> 54449.975 | D38: =SUM(C38/$B$5) -> 57.703898
A39: Division 29 | B39: Appliances | C39: =TAKEOFF!I694 -> 41625.846 | D39: =SUM(C39/$B$5) -> 44.1134
A40: Division 30 | B40: Hydraulic Services | C40: =TAKEOFF!I742 -> 146907.25 | D40: =SUM(C40/$B$5) -> 155.6864
A41: Division 31 | B41: Electrical Services | C41: =TAKEOFF!I746 -> 68506.307 | D41: =SUM(C41/$B$5) -> 72.600234
A42: Division 32 | B42: Mechanical Services | C42: =TAKEOFF!I752 -> 71664.492 | D42: =SUM(C42/$B$5) -> 75.947151
A43: Division 33 | B43: Fire Services | C43: =TAKEOFF!I756 -> 59075.973 | D43: =SUM(C43/$B$5) -> 62.606345
A44: Division 34 | B44: Civil Works | C44: =TAKEOFF!I787 -> 33813.458 | D44: =SUM(C44/$B$5) -> 35.834146
A45: Division 35 | B45: Landscaping | C45: =TAKEOFF!I800 -> 9285.8692 | D45: =SUM(C45/$B$5) -> 9.8407914
A46: Division 36 | B46: Window Shroud | C46: =TAKEOFF!I810 -> 5719.9572 | D46: =SUM(C46/$B$5) -> 6.061781
A47: TOTAL TRADE COST | C47: =SUM(C11:C46) -> 1874641.6 | D47: =SUM(C47/$B$5) -> 1986.67
A48: SUBTOTAL | C48: =C47 -> 1874641.6
A49: OVERHEADS & PROFITS | B49: 0.25 | C49: =B49*C47 -> 468660.41
A50: INSURANCES | B50: 0.03 | C50: =B50*C47 -> 56239.249
A51: CONTINGENCY | B51: 0.07 | C51: =B51*C47 -> 131224.92
A52: TOTAL BASE BID | C52: =SUM(C47:C51) -> 4405407.9 | D52: =SUM(C52/$B$5) -> 4668.6744

Sheet TAKEOFF
A1: Project
A2: ADDRESS
A3: Date of submission
A4: Date of plans
A5: SITE ESTIMATE
A6: SR # | B6: DESCRIPTION | C6: QUANTITY | D6: UNIT | E6: WASTAGE | F6: QTY W/ WASTE | G6: RATE | H6: TOTAL COST | I6: TRADE COST
A7: Preliminaries
A8: =IF(C8=0,"",1+MAX(A$7:A7)) -> 1 | B8: Labor | C8: 1 | D8: EA | E8: 0 | F8: =(E8*C8)+C8 -> 1 | G8: 0 | H8: =(G8)*F8 -> 0
A9: =IF(C9=0,"",1+MAX(A$7:A8)) -> 2 | B9: Supervision | C9: 1 | D9: EA | E9: 0 | F9: =(E9*C9)+C9 -> 1 | G9: 42500 | H9: =(G9)*F9 -> 42500
A10: =IF(C10=0,"",1+MAX(A$7:A9)) -> 3 | B10: Authorities & Fees | C10: 1 | D10: EA | E10: 0 | F10: =(E10*C10)+C10 -> 1 | G10: 0 | H10: =(G10)*F10 -> 0
A11: =IF(C11=0,"",1+MAX(A$7:A10)) -> 4 | B11: Contractors and QBSA Insurances | C11: 1 | D11: EA | E11: 0 | F11: =(E11*C11)+C11 -> 1 | G11: 0 | H11: =(G11)*F11 -> 0
A12: =IF(C12=0,"",1+MAX(A$7:A11)) -> 5 | B12: Emergency Efficiency Reports | C12: 1 | D12: EA | E12: 0 | F12: =(E12*C12)+C12 -> 1 | G12: 0 | H12: =(G12)*F12 -> 0
A13: =IF(C13=0,"",1+MAX(A$7:A12)) -> 6 | B13: Building Design \ Drafting | C13: 1 | D13: EA | E13: 0 | F13: =(E13*C13)+C13 -> 1 | G13: 0 | H13: =(G13)*F13 -> 0
A14: =IF(C14=0,"",1+MAX(A$7:A13)) -> 7 | B14: Color Consultant | C14: 1 | D14: EA | E14: 0 | F14: =(E14*C14)+C14 -> 1 | G14: 0 | H14: =(G14)*F14 -> 0
A15: =IF(C15=0,"",1+MAX(A$7:A14)) -> 8 | B15: Engineer | C15: 1 | D15: EA | E15: 0 | F15: =(E15*C15)+C15 -> 1 | G15: 0 | H15: =(G15)*F15 -> 0
A16: =IF(C16=0,"",1+MAX(A$7:A15)) -> 9 | B16: Offices & Sheds | C16: 1 | D16: EA | E16: 0 | F16: =(E16*C16)+C16 -> 1 | G16: 0 | H16: =(G16)*F16 -> 0
A17: =IF(C17=0,"",1+MAX(A$7:A16)) -> 10 | B17: Bank Charges | C17: 1 | D17: EA | E17: 0 | F17: =(E17*C17)+C17 -> 1 | G17: 0 | H17: =(G17)*F17 -> 0
A18: =IF(C18=0,"",1+MAX(A$7:A17)) -> 11 | B18: Temp Plumbing | C18: 1 | D18: EA | E18: 0 | F18: =(E18*C18)+C18 -> 1 | G18: 0 | H18: =(G18)*F18 -> 0
A19: =IF(C19=0,"",1+MAX(A$7:A18)) -> 12 | B19: Temp Power | C19: 1 | D19: EA | E19: 0 | F19: =(E19*C19)+C19 -> 1 | G19: 0 | H19: =(G19)*F19 -> 0
... A35: =IF(C35=0,"",1+MAX(A$7:A34)) -> 28 | B35: Security | C35: 1 | D35: EA | E35: 0 | F35: =(E35*C35)+C35 -> 1 | G35: 13600 | H35: =(G35)*F35 -> 13600
A36: Sub Total | I36: =SUM(H8:H35) -> 122236.32
A38: Excavation & Site Levelling
A39: =IF(C39=0,"",1+MAX(A$7:A38)) | B39: Detailed Excavation
A40: =IF(C40=0,"",1+MAX(A$7:A39)) | B40: Cut
A41: =IF(C41=0,"",1+MAX(A$7:A40)) -> 29 | B41: Drilling For Bored Pier | C41: 123 | D41: M | E41: 0 | F41: =(E41*C41)+C41 -> 123 | G41: 20.64 | H41: =(G41)*F41 -> 2538.72
A42: =IF(C42=0,"",1+MAX(A$7:A41)) -> 30 | B42: Earthwork In Cut For Strip Footing | C42: 8.6 | D42: M3 | E42: 0 | F42: =(E42*C42)+C42 -> 8.6 | G42: 24.768 | H42: =(G42)*F42 -> 213.0048
A43: =IF(C43=0,"",1+MAX(A$7:A42)) -> 31 | B43: Earthwork In Cut For Pad Footing | C43: 19.2 | D43: M3 | E43: 0 | F43: =(E43*C43)+C43 -> 19.2 | G43: 24.768 | H43: =(G43)*F43 -> 475.5456
A44: =IF(C44=0,"",1+MAX(A$7:A43)) -> 32 | B44: Earthwork In Cut For Edge Beam | C44: 7.9074 | D44: M3 | E44: 0 | F44: =(E44*C44)+C44 -> 7.9074 | G44: 24.768 | H44: =(G44)*F44 -> 195.85048
A45: =IF(C45=0,"",1+MAX(A$7:A44)) | B45: Site Clearance
A46: =IF(C46=0,"",1+MAX(A$7:A45)) -> 33 | B46: Site Clearance | C46: 660 | D46: M2 | E46: 0 | F46: =(E46*C46)+C46 -> 660 | G46: 8.256 | H46: =(G46)*F46 -> 5448.96
A47: Sub Total | I47: =SUM(H39:H46) -> 8872.0809
A49: Formwork
A50: =IF(C50=0,"",1+MAX(A$7:A49)) | B50: Formwork
A51: =IF(C51=0,"",1+MAX(A$7:A50)) | B51: Basement
A52: =IF(C52=0,"",1+MAX(A$7:A51)) | B52: Edge Of Slab
A53: =IF(C53=0,"",1+MAX(A$7:A52)) -> 34 | B53: (155mm H) Edge Of Slab | C53: 20.31 | D53: M | E53: 0 | F53: =(E53*C53)+C53 -> 20.31 | G53: 24.768 | H53: =(G53)*F53 -> 503.03808
A54: =IF(C54=0,"",1+MAX(A$7:A53)) -> 35 | B54: (125mm H) Edge Of Slab | C54: 86.29 | D54: M | E54: 0 | F54: =(E54*C54)+C54 -> 86.29 | G54: 19.974194 | H54: =(G54)*F54 -> 1723.5732
A55: =IF(C55=0,"",1+MAX(A$7:A54)) | B55: Stair
A56: =IF(C56=0,"",1+MAX(A$7:A55)) -> 36 | B56: Stair Riser Formwork | C56: 10.92 | D56: M | E56: 0 | F56: =(E56*C56)+C56 -> 10.92 | G56: 44.95528 | H56: =(G56)*F56 -> 490.91166
A57: =IF(C57=0,"",1+MAX(A$7:A56)) | B57: Strip Footing
A58: =IF(C58=0,"",1+MAX(A$7:A57)) -> 37 | B58: Strip Footing Formwork | C58: 24 | D58: M2 | E58: 0 | F58: =(E58*C58)+C58 -> 24 | G58: 44.95528 | H58: =(G58)*F58 -> 1078.9267
A59: =IF(C59=0,"",1+MAX(A$7:A58)) | B59: Pad Footing
A60: =IF(C60=0,"",1+MAX(A$7:A59)) -> 38 | B60: Pad Footing Formwork | C60: 19.2 | D60: M2 | E60: 0 | F60: =(E60*C60)+C60 -> 19.2 | G60: 44.95528 | H60: =(G60)*F60 -> 863.14138
A61: =IF(C61=0,"",1+MAX(A$7:A60)) | B61: Shotcrete Wall
A62: =IF(C62=0,"",1+MAX(A$7:A61)) -> 39 | B62: Shotcrete Wall Formwork | C62: 207.4 | D62: M2 | E62: 0 | F62: =(E62*C62)+C62 -> 207.4 | G62: 44.95528 | H62: =(G62)*F62 -> 9323.7251
A63: =IF(C63=0,"",1+MAX(A$7:A62)) | B63: Column
A64: =IF(C64=0,"",1+MAX(A$7:A63)) -> 40 | B64: Concrete Column Formwork | C64: 28.8 | D64: M2 | E64: 0 | F64: =(E64*C64)+C64 -> 28.8 | G64: 44.95528 | H64: =(G64)*F64 -> 1294.7121
A65: =IF(C65=0,"",1+MAX(A$7:A64)) | B65: Edge Beam
A66: =IF(C66=0,"",1+MAX(A$7:A65)) -> 41 | B66: Edge Beam Formwork | C66: 52.716 | D66: M2 | E66: 0 | F66: =(E66*C66)+C66 -> 52.716 | G66: 44.95528 | H66: =(G66)*F66 -> 2369.8625
A67: =IF(C67=0,"",1+MAX(A$7:A66)) | B67: Ground Floor
A68: =IF(C68=0,"",1+MAX(A$7:A67)) | B68: Edge Of Slab
A69: =IF(C69=0,"",1+MAX(A$7:A68)) -> 42 | B69: (205mm H) Edge Of Slab | C69: 75.79 | D69: M | E69: 0 | F69: =(E69*C69)+C69 -> 75.79 | G69: 32.757677 | H69: =(G69)*F69 -> 2482.7044
A70: =IF(C70=0,"",1+MAX(A$7:A69)) -> 43 | B70: (275mm H) Edge Of Slab | C70: 12.49 | D70: M | E70: 0 | F70: =(E70*C70)+C70 -> 12.49 | G70: 43.943226 | H70: =(G70)*F70 -> 548.85089
A71: =IF(C71=0,"",1+MAX(A$7:A70)) -> 44 | B71: (375mm H) Edge Of Slab | C71: 4.44 | D71: M | E71: 0 | F71: =(E71*C71)+C71 -> 4.44 | G71: 59.922581 | H71: =(G71)*F71 -> 266.05626
A72: =IF(C72=0,"",1+MAX(A$7:A71)) | B72: Step In Slab
A73: =IF(C73=0,"",1+MAX(A$7:A72)) -> 45 | B73: (105mm H) Step In Slab | C73: 36.75 | D73: M | E73: 0 | F73: =(E73*C73)+C73 -> 36.75 | G73: 16.778323 | H73: =(G73)*F73 -> 616.60335
A74: =IF(C74=0,"",1+MAX(A$7:A73)) -> 46 | B74: (175mm H) Step In Slab | C74: 5.76 | D74: M | E74: 0 | F74: =(E74*C74)+C74 -> 5.76 | G74: 27.963871 | H74: =(G74)*F74 -> 161.0719
A75: =IF(C75=0,"",1+MAX(A$7:A74)) -> 47 | B75: (245mm H) Step In Slab | C75: 52.89 | D75: M | E75: 0 | F75: =(E75*C75)+C75 -> 52.89 | G75: 39.149419 | H75: =(G75)*F75 -> 2070.6128
A76: =IF(C76=0,"",1+MAX(A$7:A75)) | B76: Suspended Slab
A77: =IF(C77=0,"",1+MAX(A$7:A76)) -> 48 | B77: Suspended Slab Soffit Formwork | C77: 278.4 | D77: M2 | E77: 0 | F77: =(E77*C77)+C77 -> 278.4 | G77: 44.95528 | H77: =(G77)*F77 -> 12515.55
A78: =IF(C78=0,"",1+MAX(A$7:A77)) | B78: Beam
A79: =IF(C79=0,"",1+MAX(A$7:A78)) -> 49 | B79: Beam Formwork | C79: 5.12 | D79: M2 | E79: 0 | F79: =(E79*C79)+C79 -> 5.12 | G79: 44.95528 | H79: =(G79)*F79 -> 230.17103
A80: Sub Total | I80: =SUM(H50:H79) -> 36539.511
A82: Concrete Supply & Install
A83: =IF(C83=0,"",1+MAX(A$7:A82)) | B83: Basement
A84: =IF(C84=0,"",1+MAX(A$7:A83)) | B84: Bored Pier
A85: =IF(C85=0,"",1+MAX(A$7:A84)) -> 50 | B85: (450mm.Dia) Bored Pier 'BP1' Reinforced w/ (3000mm H & 41 EA) - 6N24 (V) + R10 - 300 CTS Ligs - 40 MPa | C85: 123 | D85: M | E85: 0 | F85: =(E85*C85)+C85 -> 123 | G85: 97.20744 | H85: =(G85)*F85 -> 11956.515
A86: =IF(C86=0,"",1+MAX(A$7:A85)) | B86: Strip Footing
A87: =IF(C87=0,"",1+MAX(A$7:A86)) -> 51 | B87: (500 x 600) Strip Footing 'SF2' Reinforced w/ (10.2 LM) - 6N16 T & B + 3N12-250 CTRS Ligs - 25 MPa | C87: 3.051 | D87: M3 | E87: 0 | F87: =(E87*C87)+C87 -> 3.051 | G87: 451.4 | H87: =(G87)*F87 -> 1377.2214
A88: =IF(C88=0,"",1+MAX(A$7:A87)) -> 52 | B88: (500 x 800) Strip Footing 'SF1' Reinforced w/ (13.9 LM) - 6N16 T & B + 3N12-250 CTRS Ligs 1N12 Mid-Hight E.F - 25 MPa | C88: 5.548 | D88: M3 | E88: 0 | F88: =(E88*C88)+C88 -> 5.548 | G88: 451.4 | H88: =(G88)*F88 -> 2504.3672
A89: =IF(C89=0,"",1+MAX(A$7:A88)) | B89: Pad Footing
A90: =IF(C90=0,"",1+MAX(A$7:A89)) -> 53 | B90: (2000 x 2000 x 600) Pad Footing 'PF1' Reinforced w/ (2 EA) - SL81 Top & N20-200 CTRS Bottom Each way, 1N16 Mid-Height E.F - 25 MPa | C90: 9.6 | D90: M3 | E90: 0 | F90: =(E90*C90)+C90 -> 9.6 | G90: 451.4 | H90: =(G90)*F90 -> 4333.44
A91: =IF(C91=0,"",1+MAX(A$7:A90)) -> 54 | B91: (1200 x 1200 x 600) Pad Footing 'PF2' Reinforced w/ (2 EA) - SL81 Top & N16-200 CTRS Bottom Each way, 1N12 Mid-Height E.F - 25 MPa | C91: 5.76 | D91: M3 | E91: 0 | F91: =(E91*C91)+C91 -> 5.76 | G91: 451.4 | H91: =(G91)*F91 -> 2600.064
A92: =IF(C92=0,"",1+MAX(A$7:A91)) -> 55 | B92: (2000 x 1200 x 600) Pad Footing 'PF3' Reinforced w/ (1 EA) - SL81 Top & N16-200 CTRS Bottom Each way, 1N16 Mid-Height E.F - 25 MPa | C92: 3.84 | D92: M3 | E92: 0 | F92: =(E92*C92)+C92 -> 3.84 | G92: 451.4 | H92: =(G92)*F92 -> 1733.376
A93: =IF(C93=0,"",1+MAX(A$7:A92)) | B93: Shotcrete Wall
A94: =IF(C94=0,"",1+MAX(A$7:A93)) -> 56 | B94: (150mm Thick) Shotcrete Wall 'SCW' Reinforced w/ (39.5 LM & 3150mm H) - RL818 Main Wire Horizontal, Lap 600 - w/ 40MPa | C94: 18.668475 | D94: M3 | E94: 0 | F94: =(E94*C94)+C94 -> 18.668475 | G94: 451.4 | H94: =(G94)*F94 -> 8426.9496
A95: =IF(C95=0,"",1+MAX(A$7:A94)) -> 57 | B95: (150mm Thick) Shotcrete Wall 'SCW' Reinforced w/ (31.9 LM & 2600mm H) - RL818 Main Wire Horizontal, Lap 600 - w/ 40MPa | C95: 12.4488 | D95: M3 | E95: 0 | F95: =(E95*C95)+C95 -> 12.4488 | G95: 451.4 | H95: =(G95)*F95 -> 5619.3883
A96: =IF(C96=0,"",1+MAX(A$7:A95)) | B96: Column
A97: =IF(C97=0,"",1+MAX(A$7:A96)) -> 58 | B97: (250 x 1000) Concrete Column 'CC1' Reinforced w/ (3150mm H & 2 EA) - 8N20 Vert, & 3N12-300 Ligatures, Lap 600, - 40 MPa | C97: 15.75 | D97: M3 | E97: 0 | F97: =(E97*C97)+C97 -> 15.75 | G97: 451.4 | H97: =(G97)*F97 -> 7109.55
A98: =IF(C98=0,"",1+MAX(A$7:A97)) -> 59 | B98: (250 x 1000) Concrete Column 'CC1' Reinforced w/ (2600mm H & 2 EA) - 8N20 Vert, & 3N12-300 Ligatures, Lap 600, - 40 MPa | C98: 13 | D98: M3 | E98: 0 | F98: =(E98*C98)+C98 -> 13 | G98: 451.4 | H98: =(G98)*F98 -> 5868.2
A99: =IF(C99=0,"",1+MAX(A$7:A98)) | B99: Edge Beam
A100: =IF(C100=0,"",1+MAX(A$7:A99)) -> 60 | B100: (300 x 300) Edge Beam Reinforced w/ (87.9 LM) - 3-L11TM | C100: 7.9074 | D100: M3 | E100: 0 | F100: =(E100*C100)+C100 -> 7.9074 | G100: 451.4 | H100: =(G100)*F100 -> 3569.4004
A101: =IF(C101=0,"",1+MAX(A$7:A100)) | B101: Stair
A102: =IF(C102=0,"",1+MAX(A$7:A101)) -> 61 | B102: Reinforced Concrete Stair | C102: 0.7944 | D102: M3 | E102: 0 | F102: =(E102*C102)+C102 -> 0.7944 | G102: 451.4 | H102: =(G102)*F102 -> 358.59216
A103: =IF(C103=0,"",1+MAX(A$7:A102)) | B103: Slab On Grade
A104: =IF(C104=0,"",1+MAX(A$7:A103)) -> 62 | B104: (100mm Thick) Slab On Grade Reinforced w/ (337.1 M2) - SL82 Mesh - 25 MPa | C104: 33.707 | D104: M3 | E104: 0 | F104: =(E104*C104)+C104 -> 33.707 | G104: 451.4 | H104: =(G104)*F104 -> 15215.34
A105: =IF(C105=0,"",1+MAX(A$7:A104)) -> 63 | B105: (130mm Thick) Medium Duty RC Concrete Pavement Slab Reinforced w/ (23.6 M2) - SL82 Mesh - (130mm Thick) Class 2 20mm FCR Compacted To 98% Standard Relative Compacted | C105: 3.0615 | D105: M3 | E105: 0 | F105: =(E105*C105)+C105 -> 3.0615 | G105: 451.4 | H105: =(G105)*F105 -> 1381.9611
A106: =IF(C106=0,"",1+MAX(A$7:A105)) -> 64 | B106: Saw Cut Joint 'SCJ' | C106: 157.53 | D106: M | E106: 0 | F106: =(E106*C106)+C106 -> 157.53 | G106: 8.3947008 | H106: =(G106)*F106 -> 1322.4172
A107: =IF(C107=0,"",1+MAX(A$7:A106)) | B107: Ground Floor
A108: =IF(C108=0,"",1+MAX(A$7:A107)) | B108: Slab On Grade
A109: =IF(C109=0,"",1+MAX(A$7:A108)) -> 65 | B109: (180mm Thick) Slab On Grade Reinforced w/ (16.1 M2) - SL92 Mesh - 32 MPa | C109: 2.9052 | D109: M3 | E109: 0 | F109: =(E109*C109)+C109 -> 2.9052 | G109: 451.4 | H109: =(G109)*F109 -> 1311.4073
A110: =IF(C110=0,"",1+MAX(A$7:A109)) | B110: Suspended Slab
A111: =IF(C111=0,"",1+MAX(A$7:A110)) -> 66 | B111: (180mm Thick) Suspended Slab Reinforced w/ (196.5 M2) - SL92 Mesh - 32 MPa | C111: 35.361 | D111: M3 | E111: 0 | F111: =(E111*C111)+C111 -> 35.361 | G111: 451.4 | H111: =(G111)*F111 -> 15961.955
A112: =IF(C112=0,"",1+MAX(A$7:A111)) -> 67 | B112: (250mm Thick) Suspended Slab Reinforced w/ (26.6 M2) - SL92 Mesh - 32 MPa | C112: 6.65 | D112: M3 | E112: 0 | F112: =(E112*C112)+C112 -> 6.65 | G112: 451.4 | H112: =(G112)*F112 -> 3001.81
A113: =IF(C113=0,"",1+MAX(A$7:A112)) -> 68 | B113: (350mm Thick) Suspended Slab Reinforced w/ (55.3 M2) - SL92 Mesh - 32 MPa | C113: 19.369 | D113: M3 | E113: 0 | F113: =(E113*C113)+C113 -> 19.369 | G113: 451.4 | H113: =(G113)*F113 -> 8743.1666
A114: =IF(C114=0,"",1+MAX(A$7:A113)) | B114: Beam
A115: =IF(C115=0,"",1+MAX(A$7:A114)) -> 69 | B115: (400 x 400) Reinforced Concrete Beam (6.4 LM) | C115: 1.024 | D115: M3 | E115: 0 | F115: =(E115*C115)+C115 -> 1.024 | G115: 451.4 | H115: =(G115)*F115 -> 462.2336
A116: =IF(C116=0,"",1+MAX(A$7:A115)) | B116: Underlayment's
A117: =IF(C117=0,"",1+MAX(A$7:A116)) -> 70 | B117: 50mm Sand Bed | C117: 376.7 | D117: M2 | E117: 0 | F117: =(E117*C117)+C117 -> 376.7 | G117: 88.228 | H117: =(G117)*F117 -> 33235.488
A118: =IF(C118=0,"",1+MAX(A$7:A117)) -> 71 | B118: 0.2 Polythene Membrane | C118: 472.616 | D118: M2 | E118: 0 | F118: =(E118*C118)+C118 -> 472.616 | G118: 3.2185312 | H118: =(G118)*F118 -> 1521.1293
...
