Workbook

Sheet SUMMARY
A1: PROJECT ID:
A2: DATE:
A3: AREA SUMMARY:
A4: No Of Floors | B4: 3
A5: BUILDING GM2 | B5: =SUM(B6:B8) -> 943.61
A6: Basemet (M2) | B6: 376.14
A7: Ground Floor (M2) | B7: 291.66
A8: First Floor (M2) | B8: 275.81
A10: DIVISION NO. | B10: DESCRIPTION | C10: TOTAL DIV. COST | D10: COST/ M2
A11: Division 1 | B11: Preliminaries | C11: =TAKEOFF!I36 -> 122236.32 | D11: =SUM(C11/$B$5) -> 129.54115
A12: Division 2 | B12: Excavation & Site Levelling | C12: =TAKEOFF!I47 -> 8872.0809 | D12: =SUM(C12/$B$5) -> 9.4022752
A13: Division 3 | B13: Formwork | C13: =TAKEOFF!I80 -> 36539.511 | D13: =SUM(C13/$B$5) -> 38.723107
A14: Division 4 | B14: Concrete Supply & Install | C14: =TAKEOFF!I119 -> 137613.97 | D14: =SUM(C14/$B$5) -> 145.83776
A15: Division 5 | B15: Termite Treatment | C15: =TAKEOFF!I123 -> 8244.163 | D15: =SUM(C15/$B$5) -> 8.736833
A16: Division 6 | B16: Carpentry Framing | C16: =TAKEOFF!I324 -> 171331.76 | D16: =SUM(C16/$B$5) -> 181.57052
A17: Division 7 | B17: Sarking & Insulation | C17: =TAKEOFF!I342 -> 36826.917 | D17: =SUM(C17/$B$5) -> 39.027689
A18: Division 8 | B18: Timber/Steel Stair Frame | C18: =TAKEOFF!I346 -> 1476.4954 | D18: =SUM(C18/$B$5) -> 1.5647305
A19: Division 9 | B19: Masonry Supply & Install | C19: =TAKEOFF!I368 -> 12658.376 | D19: =SUM(C19/$B$5) -> 13.414839
A20: Division 10 | B20: Scaffold | C20: =TAKEOFF!I373 -> 8044.2978 | D20: =SUM(C20/$B$5) -> 8.5250239
A21: Division 11 | B21: Aluminium Windows & Doors | C21: =TAKEOFF!I398 -> 238609.29 | D21: =SUM(C21/$B$5) -> 252.86855
A22: Division 12 | B22: Roofing (Metal/Tiles) | C22: =TAKEOFF!I421 -> 31072.957 | D22: =SUM(C22/$B$5) -> 32.929873
A23: Division 13 | B23: Solar Panel | C23: =TAKEOFF!I426 -> 3721.4643 | D23: =SUM(C23/$B$5) -> 3.9438585
A24: Division 14 | B24: Skylights | C24: =TAKEOFF!I430 -> 556.49074 | D24: =SUM(C24/$B$5) -> 0.58974654
A25: Division 15 | B25: Cladding | C25: =TAKEOFF!I437 -> 17484.56 | D25: =SUM(C25/$B$5) -> 18.529435
A26: Division 16 | B26: Render | C26: =TAKEOFF!I443 -> 8288.9592 | D26: =SUM(C26/$B$5) -> 8.7843062
A27: Division 17 | B27: Plasterboard | C27: =TAKEOFF!I479 -> 78615.123 | D27: =SUM(C27/$B$5) -> 83.313151
A28: Division 18 | B28: External Balustrades | C28: =TAKEOFF!I486 -> 17216.805 | D28: =SUM(C28/$B$5) -> 18.245679
A29: Division 19 | B29: Sundry Metalwork (e.g. Garage Door) | C29: =TAKEOFF!I491 -> 5577.4152 | D29: =SUM(C29/$B$5) -> 5.9107207
A30: Division 20 | B30: Door & Hardware Supply & Install | C30: =TAKEOFF!I516 -> 157973.37 | D30: =SUM(C30/$B$5) -> 167.41384
A31: Division 21 | B31: Carpentry Fitout | C31: =TAKEOFF!I527 -> 20535.211 | D31: =SUM(C31/$B$5) -> 21.762392
A32: Division 22 | B32: Waterproofing | C32: =TAKEOFF!I541 -> 1909.3541 | D32: =SUM(C32/$B$5) -> 2.0234568
A33: Division 23 | B33: Tiling (Supply & Install) | C33: =TAKEOFF!I560 -> 30655.69 | D33: =SUM(C33/$B$5) -> 32.48767
A34: Division 24 | B34: Flooring | C34: =TAKEOFF!I577 -> 46635.921 | D34: =SUM(C34/$B$5) -> 49.422877
A35: Division 25 | B35: Painting | C35: =TAKEOFF!I629 -> 85606.316 | D35: =SUM(C35/$B$5) -> 90.722137
A36: Division 26 | B36: Joinery | C36: =TAKEOFF!I659 -> 82253.491 | D36: =SUM(C36/$B$5) -> 87.168948
A37: Division 27 | B37: Shower Screens/ Partition | C37: =TAKEOFF!I666 -> 13036.21 | D37: =SUM(C37/$B$5) -> 13.815252
A38: Division 28 | B38: PC Items | C38: =TAKEOFF!I685 -> 54449.975 | D38: =SUM(C38/$B$5) -> 57.703898
A39: Division 29 | B39: Appliances | C39: =TAKEOFF!I694 -> 41625.846 | D39: =SUM(C39/$B$5) -> 44.1134
A40: Division 30 | B40: Hydraulic Services | C40: =TAKEOFF!I742 -> 146907.25 | D40: =SUM(C40/$B$5) -> 155.6864
A41: Division 31 | B41: Electrical Services | C41: =TAKEOFF!I746 -> 68506.307 | D41: =SUM(C41/$B$5) -> 72.600234
...

Sheet TAKEOFF
A1: Project
A2: ADDRESS
A3: Date of submission
A4: Date of plans
A5: SITE ESTIMATE
A6: SR # | B6: DESCRIPTION | C6: QUANTITY | D6: UNIT | E6: WASTAGE | F6: QTY W/ WASTE | G6: RATE | H6: TOTAL COST | I6: TRADE COST
A7: Preliminaries
A8: =IF(C8=0,"",1+MAX(A$7:A7)) -> 1 | B8: Labor | C8: 1 | D8: EA | E8: 0 | F8: =(E8*C8)+C8 -> 1 | G8: 0 | H8: =(G8)*F8 -> 0
A9: =IF(C9=0,"",1+MAX(A$7:A8)) -> 2 | B9: Supervision | C9: 1 | D9: EA | E9: 0 | F9: =(E9*C9)+C9 -> 1 | G9: 42500 | H9: =(G9)*F9 -> 42500
A10: =IF(C10=0,"",1+MAX(A$7:A9)) -> 3 | B10: Authorities & Fees | C10: 1 | D10: EA | E10: 0 | F10: =(E10*C10)+C10 -> 1 | G10: 0 | H10: =(G10)*F10 -> 0
A11: =IF(C11=0,"",1+MAX(A$7:A10)) -> 4 | B11: Contractors and QBSA Insurances | C11: 1 | D11: EA | E11: 0 | F11: =(E11*C11)+C11 -> 1 | G11: 0 | H11: =(G11)*F11 -> 0
A12: =IF(C12=0,"",1+MAX(A$7:A11)) -> 5 | B12: Emergency Efficiency Reports | C12: 1 | D12: EA | E12: 0 | F12: =(E12*C12)+C12 -> 1 | G12: 0 | H12: =(G12)*F12 -> 0
A13: =IF(C13=0,"",1+MAX(A$7:A12)) -> 6 | B13: Building Design \ Drafting | C13: 1 | D13: EA | E13: 0 | F13: =(E13*C13)+C13 -> 1 | G13: 0 | H13: =(G13)*F13 -> 0
A14: =IF(C14=0,"",1+MAX(A$7:A13)) -> 7 | B14: Color Consultant | C14: 1 | D14: EA | E14: 0 | F14: =(E14*C14)+C14 -> 1 | G14: 0 | H14: =(G14)*F14 -> 0
A15: =IF(C15=0,"",1+MAX(A$7:A14)) -> 8 | B15: Engineer | C15: 1 | D15: EA | E15: 0 | F15: =(E15*C15)+C15 -> 1 | G15: 0 | H15: =(G15)*F15 -> 0
A16: =IF(C16=0,"",1+MAX(A$7:A15)) -> 9 | B16: Offices & Sheds | C16: 1 | D16: EA | E16: 0 | F16: =(E16*C16)+C16 -> 1 | G16: 0 | H16: =(G16)*F16 -> 0
A17: =IF(C17=0,"",1+MAX(A$7:A16)) -> 10 | B17: Bank Charges | C17: 1 | D17: EA | E17: 0 | F17: =(E17*C17)+C17 -> 1 | G17: 0 | H17: =(G17)*F17 -> 0
A18: =IF(C18=0,"",1+MAX(A$7:A17)) -> 11 | B18: Temp Plumbing | C18: 1 | D18: EA | E18: 0 | F18: =(E18*C18)+C18 -> 1 | G18: 0 | H18: =(G18)*F18 -> 0
A19: =IF(C19=0,"",1+MAX(A$7:A18)) -> 12 | B19: Temp Power | C19: 1 | D19: EA | E19: 0 | F19: =(E19*C19)+C19 -> 1 | G19: 0 | H19: =(G19)*F19 -> 0
... A35: =IF(C35=0,"",1+MAX(A$7:A34)) -> 28 | B35: Security | C35: 1 | D35: EA | E35: 0 | F35: =(E35*C35)+C35 -> 1 | G35: 13600 | H35: =(G35)*F35 -> 13600
A36: Sub Total | I36: =SUM(H8:H35) -> 122236.32
A38: Excavation & Site Levelling
A39: =IF(C39=0,"",1+MAX(A$7:A38)) | B39: Detailed Excavation
A40: =IF(C40=0,"",1+MAX(A$7:A39)) | B40: Cut
A41: =IF(C41=0,"",1+MAX(A$7:A40)) -> 29 | B41: Drilling For Bored Pier | C41: 123 | D41: M | E41: 0 | F41: =(E41*C41)+C41 -> 123 | G41: 20.64 | H41: =(G41)*F41 -> 2538.72
A42: =IF(C42=0,"",1+MAX(A$7:A41)) -> 30 | B42: Earthwork In Cut For Strip Footing | C42: 8.6 | D42: M3 | E42: 0 | F42: =(E42*C42)+C42 -> 8.6 | G42: 24.768 | H42: =(G42)*F42 -> 213.0048
A43: =IF(C43=0,"",1+MAX(A$7:A42)) -> 31 | B43: Earthwork In Cut For Pad Footing | C43: 19.2 | D43: M3 | E43: 0 | F43: =(E43*C43)+C43 -> 19.2 | G43: 24.768 | H43: =(G43)*F43 -> 475.5456
A44: =IF(C44=0,"",1+MAX(A$7:A43)) -> 32 | B44: Earthwork In Cut For Edge Beam | C44: 7.9074 | D44: M3 | E44: 0 | F44: =(E44*C44)+C44 -> 7.9074 | G44: 24.768 | H44: =(G44)*F44 -> 195.85048
A45: =IF(C45=0,"",1+MAX(A$7:A44)) | B45: Site Clearance
A46: =IF(C46=0,"",1+MAX(A$7:A45)) -> 33 | B46: Site Clearance | C46: 660 | D46: M2 | E46: 0 | F46: =(E46*C46)+C46 -> 660 | G46: 8.256 | H46: =(G46)*F46 -> 5448.96
A47: Sub Total | I47: =SUM(H39:H46) -> 8872.0809
A49: Formwork
A50: =IF(C50=0,"",1+MAX(A$7:A49)) | B50: Formwork
A51: =IF(C51=0,"",1+MAX(A$7:A50)) | B51: Basement
A52: =IF(C52=0,"",1+MAX(A$7:A51)) | B52: Edge Of Slab
A53: =IF(C53=0,"",1+MAX(A$7:A52)) -> 34 | B53: (155mm H) Edge Of Slab | C53: 20.31 | D53: M | E53: 0 | F53: =(E53*C53)+C53 -> 20.31 | G53: 24.768 | H53: =(G53)*F53 -> 503.03808
A54: =IF(C54=0,"",1+MAX(A$7:A53)) -> 35 | B54: (125mm H) Edge Of Slab | C54: 86.29 | D54: M | E54: 0 | F54: =(E54*C54)+C54 -> 86.29 | G54: 19.974194 | H54: =(G54)*F54 -> 1723.5732
A55: =IF(C55=0,"",1+MAX(A$7:A54)) | B55: Stair
A56: =IF(C56=0,"",1+MAX(A$7:A55)) -> 36 | B56: Stair Riser Formwork | C56: 10.92 | D56: M | E56: 0 | F56: =(E56*C56)+C56 -> 10.92 | G56: 44.95528 | H56: =(G56)*F56 -> 490.91166
A57: =IF(C57=0,"",1+MAX(A$7:A56)) | B57: Strip Footing
...
